BEGIN:VCALENDAR
VERSION:2.0
PRODID:-//Red Eagles Hyogo//Schedule//JP
CALSCALE:GREGORIAN
METHOD:PUBLISH
X-WR-CALNAME:Red Eagles 兵庫 活動予定
X-WR-TIMEZONE:Asia/Tokyo
BEGIN:VTIMEZONE
TZID:Asia/Tokyo
BEGIN:STANDARD
DTSTART:19700101T000000
TZOFFSETFROM:+0900
TZOFFSETTO:+0900
TZNAME:JST
END:STANDARD
END:VTIMEZONE
BEGIN:VEVENT
UID:schedule-309@redeagleshyogo.net
DTSTAMP:20260424T115937Z
DTSTART;TZID=Asia/Tokyo:20260509130000
DTEND;TZID=Asia/Tokyo:20260509170000
SUMMARY:練習
LOCATION:総合体育館(アルゴ)
CATEGORIES:練習
URL:https://redeagleshyogo.net/%e7%b7%b4%e7%bf%92-6/
END:VEVENT
END:VCALENDAR