BEGIN:VCALENDAR
VERSION:2.0
PRODID:-//Red Eagles Hyogo//Schedule//JP
CALSCALE:GREGORIAN
METHOD:PUBLISH
X-WR-CALNAME:Red Eagles 兵庫 活動予定
X-WR-TIMEZONE:Asia/Tokyo
BEGIN:VTIMEZONE
TZID:Asia/Tokyo
BEGIN:STANDARD
DTSTART:19700101T000000
TZOFFSETFROM:+0900
TZOFFSETTO:+0900
TZNAME:JST
END:STANDARD
END:VTIMEZONE
BEGIN:VEVENT
UID:schedule-311@redeagleshyogo.net
DTSTAMP:20260424T120357Z
DTSTART;TZID=Asia/Tokyo:20260504130000
DTEND;TZID=Asia/Tokyo:20260504170000
SUMMARY:練習試合(兵庫パープルスネークス)
LOCATION:兵庫県立障害者スポーツ交流館
CATEGORIES:練習試合
URL:https://redeagleshyogo.net/%e7%b7%b4%e7%bf%92%e8%a9%a6%e5%90%88%e5%85%b5%e5%ba%ab%e3%83%91%e3%83%bc%e3%83%97%e3%83%ab%e3%82%b9%e3%83%8d%e3%83%bc%e3%82%af%e3%82%b9/
END:VEVENT
END:VCALENDAR