BEGIN:VCALENDAR
VERSION:2.0
PRODID:-//Red Eagles Hyogo//Schedule//JP
CALSCALE:GREGORIAN
METHOD:PUBLISH
X-WR-CALNAME:Red Eagles 兵庫 活動予定
X-WR-TIMEZONE:Asia/Tokyo
BEGIN:VTIMEZONE
TZID:Asia/Tokyo
BEGIN:STANDARD
DTSTART:19700101T000000
TZOFFSETFROM:+0900
TZOFFSETTO:+0900
TZNAME:JST
END:STANDARD
END:VTIMEZONE
BEGIN:VEVENT
UID:schedule-313@redeagleshyogo.net
DTSTAMP:20260424T120342Z
DTSTART;TZID=Asia/Tokyo:20260517130000
DTEND;TZID=Asia/Tokyo:20260517170000
SUMMARY:練習
LOCATION:ニチイ学館 神戸ポートアイランドセンター
CATEGORIES:練習
URL:https://redeagleshyogo.net/%e7%b7%b4%e7%bf%92-7/
END:VEVENT
END:VCALENDAR